BEGIN:VCALENDAR
VERSION:2.0
PRODID:-//time.you/holidays//NONSGML v1.0//EN
BEGIN:VEVENT
UID:97ba05a7-c9f0-4081-980e-eef3c901782d
DTSTAMP:20260421T223532Z
DTSTART;VALUE=DATE:20261102
SUMMARY:All Souls' Day (Angola)
END:VEVENT
END:VCALENDAR