BEGIN:VCALENDAR
VERSION:2.0
PRODID:-//time.you/holidays//NONSGML v1.0//EN
BEGIN:VEVENT
UID:424f56c4-dbd8-4751-8341-2b80ac9291c2
DTSTAMP:20260421T163417Z
DTSTART;VALUE=DATE:20261111
SUMMARY:National Independence Day (Angola)
END:VEVENT
END:VCALENDAR