BEGIN:VCALENDAR
VERSION:2.0
PRODID:-//time.you/holidays//NONSGML v1.0//EN
BEGIN:VEVENT
UID:8df6c763-0a83-4b2d-88b2-e3cfce2eb00c
DTSTAMP:20260422T063611Z
DTSTART;VALUE=DATE:20260601
SUMMARY:Anguilla Day (observed) (Anguilla)
END:VEVENT
END:VCALENDAR