BEGIN:VCALENDAR
VERSION:2.0
PRODID:-//time.you/holidays//NONSGML v1.0//EN
BEGIN:VEVENT
UID:632453c2-a8c6-4570-9721-4d7f410d44a5
DTSTAMP:20260421T010105Z
DTSTART;VALUE=DATE:20260406
SUMMARY:Easter Monday (Anguilla)
END:VEVENT
END:VCALENDAR