BEGIN:VCALENDAR
VERSION:2.0
PRODID:-//time.you/holidays//NONSGML v1.0//EN
BEGIN:VEVENT
UID:9e51ef04-8528-4887-8b13-6ef03f17ad07
DTSTAMP:20260420T055817Z
DTSTART;VALUE=DATE:20260405
SUMMARY:Easter Sunday (Anguilla)
END:VEVENT
END:VCALENDAR