BEGIN:VCALENDAR
VERSION:2.0
PRODID:-//time.you/holidays//NONSGML v1.0//EN
BEGIN:VEVENT
UID:0bf2a0cd-536f-468c-ad2c-d7a455b81929
DTSTAMP:20260421T160640Z
DTSTART;VALUE=DATE:20270503
SUMMARY:Labor Day (observed) (Anguilla)
END:VEVENT
END:VCALENDAR