BEGIN:VCALENDAR
VERSION:2.0
PRODID:-//time.you/holidays//NONSGML v1.0//EN
BEGIN:VEVENT
UID:9d963a0f-a988-444e-b1a0-bf2f1d7789c9
DTSTAMP:20260420T204540Z
DTSTART;VALUE=DATE:20260501
SUMMARY:Labor Day (Anguilla)
END:VEVENT
END:VCALENDAR