BEGIN:VCALENDAR
VERSION:2.0
PRODID:-//time.you/holidays//NONSGML v1.0//EN
BEGIN:VEVENT
UID:4b93a343-b713-4cb3-b23e-4171dd7469ca
DTSTAMP:20260420T084848Z
DTSTART;VALUE=DATE:20261218
SUMMARY:National Heroes and Heroines Day (observed) (Anguilla)
END:VEVENT
END:VCALENDAR