BEGIN:VCALENDAR
VERSION:2.0
PRODID:-//time.you/holidays//NONSGML v1.0//EN
BEGIN:VEVENT
UID:91fb8649-7876-4bac-b41d-37864c1b1cc0
DTSTAMP:20260421T220111Z
DTSTART;VALUE=DATE:20220603
SUMMARY:Queen's Birthday (Anguilla)
END:VEVENT
END:VCALENDAR