BEGIN:VCALENDAR
VERSION:2.0
PRODID:-//time.you/holidays//NONSGML v1.0//EN
BEGIN:VEVENT
UID:1c3e21d4-f4ac-42b4-a38e-440aa6abb72b
DTSTAMP:20260423T154426Z
DTSTART;VALUE=DATE:20260525
SUMMARY:Whit Monday (Anguilla)
END:VEVENT
END:VCALENDAR