BEGIN:VCALENDAR
VERSION:2.0
PRODID:-//time.you/holidays//NONSGML v1.0//EN
BEGIN:VEVENT
UID:55f819ba-7f5f-4451-b7be-05b7f6c4a68a
DTSTAMP:20260425T150239Z
DTSTART;VALUE=DATE:20261201
SUMMARY:Antarctica Day (Antarctica)
END:VEVENT
END:VCALENDAR