BEGIN:VCALENDAR
VERSION:2.0
PRODID:-//time.you/holidays//NONSGML v1.0//EN
BEGIN:VEVENT
UID:44682348-54bb-4917-b548-40cb87c81b26
DTSTAMP:20260419T234149Z
DTSTART;VALUE=DATE:20260101
SUMMARY:New Year's Day (Antarctica)
END:VEVENT
END:VCALENDAR