BEGIN:VCALENDAR
VERSION:2.0
PRODID:-//time.you/holidays//NONSGML v1.0//EN
BEGIN:VEVENT
UID:4e0e3425-3268-4969-a533-9197767962a8
DTSTAMP:20260420T013836Z
DTSTART;VALUE=DATE:20261225
SUMMARY:Christmas Day (Antigua and Barbuda)
END:VEVENT
END:VCALENDAR