BEGIN:VCALENDAR
VERSION:2.0
PRODID:-//time.you/holidays//NONSGML v1.0//EN
BEGIN:VEVENT
UID:bb3fa745-1093-4493-a9fc-238d69e775ba
DTSTAMP:20260422T032405Z
DTSTART;VALUE=DATE:20261102
SUMMARY:Independence Day (observed) (Antigua and Barbuda)
END:VEVENT
END:VCALENDAR