BEGIN:VCALENDAR
VERSION:2.0
PRODID:-//time.you/holidays//NONSGML v1.0//EN
BEGIN:VEVENT
UID:9b38e1d8-27d8-4b7f-af3c-e9d8a0c7dc2c
DTSTAMP:20260424T021856Z
DTSTART;VALUE=DATE:20261101
SUMMARY:Independence Day (Antigua and Barbuda)
END:VEVENT
END:VCALENDAR