BEGIN:VCALENDAR
VERSION:2.0
PRODID:-//time.you/holidays//NONSGML v1.0//EN
BEGIN:VEVENT
UID:dbad4827-5639-4308-8ec2-6067b431c265
DTSTAMP:20260421T112938Z
DTSTART;VALUE=DATE:20260504
SUMMARY:Labour Day (Antigua and Barbuda)
END:VEVENT
END:VCALENDAR