BEGIN:VCALENDAR
VERSION:2.0
PRODID:-//time.you/holidays//NONSGML v1.0//EN
BEGIN:VEVENT
UID:4f5a43e5-45c7-4c26-87b7-b807e16bc3e2
DTSTAMP:20260419T235542Z
DTSTART;VALUE=DATE:20260101
SUMMARY:New Year's Day (Antigua and Barbuda)
END:VEVENT
END:VCALENDAR