BEGIN:VCALENDAR
VERSION:2.0
PRODID:-//time.you/holidays//NONSGML v1.0//EN
BEGIN:VEVENT
UID:7633b7ba-8215-42c0-bae0-fcfd1e2e348b
DTSTAMP:20260421T221221Z
DTSTART;VALUE=DATE:20261112
SUMMARY:Anniversary of the Death of Ángel Vicente Peñaloza (Argentina)
END:VEVENT
END:VCALENDAR