BEGIN:VCALENDAR
VERSION:2.0
PRODID:-//time.you/holidays//NONSGML v1.0//EN
BEGIN:VEVENT
UID:1284078c-ba95-49ed-b910-6c43cb4d8374
DTSTAMP:20260421T221223Z
DTSTART;VALUE=DATE:20260817
SUMMARY:Anniversary of the Death of General José Francisco de San Martín; Pass to the Immortality of General Don José de San Martín (Argentina)
END:VEVENT
END:VCALENDAR