BEGIN:VCALENDAR
VERSION:2.0
PRODID:-//time.you/holidays//NONSGML v1.0//EN
BEGIN:VEVENT
UID:8d2ffa6e-6cf1-4525-bdfa-9be9d753baed
DTSTAMP:20260422T014613Z
DTSTART;VALUE=DATE:20270817
SUMMARY:Anniversary of the Death of General José Francisco de San Martín (Argentina)
END:VEVENT
END:VCALENDAR