BEGIN:VCALENDAR
VERSION:2.0
PRODID:-//time.you/holidays//NONSGML v1.0//EN
BEGIN:VEVENT
UID:afabaa11-79a5-42ef-8fbb-4bac02a3c6bc
DTSTAMP:20260421T221219Z
DTSTART;VALUE=DATE:20260620
SUMMARY:Anniversary of the Death of General Manuel Belgrano; Pass to the Immortality of General Don Manuel Belgrano (Argentina)
END:VEVENT
END:VCALENDAR