BEGIN:VCALENDAR
VERSION:2.0
PRODID:-//time.you/holidays//NONSGML v1.0//EN
BEGIN:VEVENT
UID:de21c71f-425f-4a58-a705-67ed23ec4d34
DTSTAMP:20260422T014557Z
DTSTART;VALUE=DATE:20261027
SUMMARY:Anniversary of the Death of Néstor Carlos Kirchner (Argentina)
END:VEVENT
END:VCALENDAR