BEGIN:VCALENDAR
VERSION:2.0
PRODID:-//time.you/holidays//NONSGML v1.0//EN
BEGIN:VEVENT
UID:a96da458-f092-4a04-b686-fa4d8c9f6354
DTSTAMP:20260421T133251Z
DTSTART;VALUE=DATE:20260216
SUMMARY:Carnival Monday (Argentina)
END:VEVENT
END:VCALENDAR