BEGIN:VCALENDAR
VERSION:2.0
PRODID:-//time.you/holidays//NONSGML v1.0//EN
BEGIN:VEVENT
UID:f2d2d114-140e-43c3-badb-717a271fbe2e
DTSTAMP:20260422T043326Z
DTSTART;VALUE=DATE:20260617
SUMMARY:Day of Memory of General Don Martín Miguel de Güemes (Argentina)
END:VEVENT
END:VCALENDAR