BEGIN:VCALENDAR
VERSION:2.0
PRODID:-//time.you/holidays//NONSGML v1.0//EN
BEGIN:VEVENT
UID:a285d8df-5109-4c33-b3d1-c0c40fa827ea
DTSTAMP:20260421T234409Z
DTSTART;VALUE=DATE:20260324
SUMMARY:Day of Remembrance for Truth and Justice; National Day of Remembrance for Truth and Justice (Argentina)
END:VEVENT
END:VCALENDAR