BEGIN:VCALENDAR
VERSION:2.0
PRODID:-//time.you/holidays//NONSGML v1.0//EN
BEGIN:VEVENT
UID:b44b7fd5-fe3c-4233-b3da-61cbfbebb4fc
DTSTAMP:20260422T003738Z
DTSTART;VALUE=DATE:20270216
SUMMARY:Day of the Death of Juan Facundo Quiroga (Argentina)
END:VEVENT
END:VCALENDAR