BEGIN:VCALENDAR
VERSION:2.0
PRODID:-//time.you/holidays//NONSGML v1.0//EN
BEGIN:VEVENT
UID:0ea1e565-0b0f-4ae7-ab94-0f3de3e08377
DTSTAMP:20260422T054416Z
DTSTART;VALUE=DATE:20260503
SUMMARY:Exaltation of the Holy Cross Day (Argentina)
END:VEVENT
END:VCALENDAR