BEGIN:VCALENDAR
VERSION:2.0
PRODID:-//time.you/holidays//NONSGML v1.0//EN
BEGIN:VEVENT
UID:e78af198-11ca-4ac3-8a4c-6102fcc7f7dd
DTSTAMP:20260424T221735Z
DTSTART;VALUE=DATE:20221220
SUMMARY:FIFA World Cup 2022 Victory Day (Argentina)
END:VEVENT
END:VCALENDAR