BEGIN:VCALENDAR
VERSION:2.0
PRODID:-//time.you/holidays//NONSGML v1.0//EN
BEGIN:VEVENT
UID:182bd289-6c88-4e02-b103-f4a2fb47d0b3
DTSTAMP:20260420T053801Z
DTSTART;VALUE=DATE:20260709
SUMMARY:Independence Day (Argentina)
END:VEVENT
END:VCALENDAR