BEGIN:VCALENDAR
VERSION:2.0
PRODID:-//time.you/holidays//NONSGML v1.0//EN
BEGIN:VEVENT
UID:0a9d054e-4630-4607-9efc-2cc283f94f35
DTSTAMP:20260424T232257Z
DTSTART;VALUE=DATE:20301118
SUMMARY:Jujuy Political Autonomy Day; National Sovereignty Day (Argentina)
END:VEVENT
END:VCALENDAR