BEGIN:VCALENDAR
VERSION:2.0
PRODID:-//time.you/holidays//NONSGML v1.0//EN
BEGIN:VEVENT
UID:a3a14575-1414-461e-a1e9-0acf4ce965f5
DTSTAMP:20260420T132341Z
DTSTART;VALUE=DATE:20260501
SUMMARY:Labor Day (Argentina)
END:VEVENT
END:VCALENDAR