BEGIN:VCALENDAR
VERSION:2.0
PRODID:-//time.you/holidays//NONSGML v1.0//EN
BEGIN:VEVENT
UID:4e18e881-e54a-4b97-bb22-a0d0a55d59e3
DTSTAMP:20260425T014535Z
DTSTART;VALUE=DATE:20270325
SUMMARY:Maundy Thursday (Argentina)
END:VEVENT
END:VCALENDAR