BEGIN:VCALENDAR
VERSION:2.0
PRODID:-//time.you/holidays//NONSGML v1.0//EN
BEGIN:VEVENT
UID:278dd6ba-743e-47cd-a62a-e27d3dfe129f
DTSTAMP:20260421T205245Z
DTSTART;VALUE=DATE:20260525
SUMMARY:May Revolution Day (Argentina)
END:VEVENT
END:VCALENDAR