BEGIN:VCALENDAR
VERSION:2.0
PRODID:-//time.you/holidays//NONSGML v1.0//EN
BEGIN:VEVENT
UID:4e64e731-fef2-4a8e-9705-9dbc208a72c5
DTSTAMP:20260420T232325Z
DTSTART;VALUE=DATE:20260907
SUMMARY:Miracle Day (Argentina)
END:VEVENT
END:VCALENDAR