BEGIN:VCALENDAR
VERSION:2.0
PRODID:-//time.you/holidays//NONSGML v1.0//EN
BEGIN:VEVENT
UID:ec1ad8c5-3174-4c68-af89-46395029c8e1
DTSTAMP:20260422T073836Z
DTSTART;VALUE=DATE:20260324
SUMMARY:National Day of Remembrance for Truth and Justice (Argentina)
END:VEVENT
END:VCALENDAR