BEGIN:VCALENDAR
VERSION:2.0
PRODID:-//time.you/holidays//NONSGML v1.0//EN
BEGIN:VEVENT
UID:8caab90d-50ae-4e7a-a9a7-f2ab64714c86
DTSTAMP:20260422T051414Z
DTSTART;VALUE=DATE:20260801
SUMMARY:Pachamama Day (Argentina)
END:VEVENT
END:VCALENDAR