BEGIN:VCALENDAR
VERSION:2.0
PRODID:-//time.you/holidays//NONSGML v1.0//EN
BEGIN:VEVENT
UID:3a4927f6-2f4e-4ba0-9813-61eca1cd84fe
DTSTAMP:20260422T043311Z
DTSTART;VALUE=DATE:20270816
SUMMARY:Pass to the Immortality of General Don José de San Martín; Saint John Bosco's Day (Argentina)
END:VEVENT
END:VCALENDAR