BEGIN:VCALENDAR
VERSION:2.0
PRODID:-//time.you/holidays//NONSGML v1.0//EN
BEGIN:VEVENT
UID:141d4145-2611-4c83-a282-72ff416b6544
DTSTAMP:20260424T221812Z
DTSTART;VALUE=DATE:20260430
SUMMARY:Plebiscite 1902 Trevelin (Argentina)
END:VEVENT
END:VCALENDAR