BEGIN:VCALENDAR
VERSION:2.0
PRODID:-//time.you/holidays//NONSGML v1.0//EN
BEGIN:VEVENT
UID:561ca599-386b-4d1e-ab9e-5a6f11b6220b
DTSTAMP:20260423T185550Z
DTSTART;VALUE=DATE:20261012
SUMMARY:Respect for Cultural Diversity Day (Argentina)
END:VEVENT
END:VCALENDAR