BEGIN:VCALENDAR
VERSION:2.0
PRODID:-//time.you/holidays//NONSGML v1.0//EN
BEGIN:VEVENT
UID:7fe6244a-eb0e-41e1-a62f-f7976d62b64a
DTSTAMP:20260425T105850Z
DTSTART;VALUE=DATE:20260725
SUMMARY:Saint James' Day (Argentina)
END:VEVENT
END:VCALENDAR