BEGIN:VCALENDAR
VERSION:2.0
PRODID:-//time.you/holidays//NONSGML v1.0//EN
BEGIN:VEVENT
UID:633de1a0-faf4-4c43-8486-0b971af5a101
DTSTAMP:20260424T094336Z
DTSTART;VALUE=DATE:20260825
SUMMARY:Saint Louis the King of France's Day (Argentina)
END:VEVENT
END:VCALENDAR