BEGIN:VCALENDAR
VERSION:2.0
PRODID:-//time.you/holidays//NONSGML v1.0//EN
BEGIN:VEVENT
UID:56042a5d-5fcc-4460-b00f-402fea79cfff
DTSTAMP:20260422T053858Z
DTSTART;VALUE=DATE:20260929
SUMMARY:Saint Michael the Archangel's Day (Argentina)
END:VEVENT
END:VCALENDAR