BEGIN:VCALENDAR
VERSION:2.0
PRODID:-//time.you/holidays//NONSGML v1.0//EN
BEGIN:VEVENT
UID:cad5852f-1aac-47f7-a4b8-71b441553a40
DTSTAMP:20260423T120150Z
DTSTART;VALUE=DATE:20260106
SUMMARY:Christmas and Epiphany Day (Armenia)
END:VEVENT
END:VCALENDAR