BEGIN:VCALENDAR
VERSION:2.0
PRODID:-//time.you/holidays//NONSGML v1.0//EN
BEGIN:VEVENT
UID:34578eae-9098-41d1-8bee-db6244f21846
DTSTAMP:20260421T143601Z
DTSTART;VALUE=DATE:20260424
SUMMARY:Genocide Memorial Day (Armenia)
END:VEVENT
END:VCALENDAR