BEGIN:VCALENDAR
VERSION:2.0
PRODID:-//time.you/holidays//NONSGML v1.0//EN
BEGIN:VEVENT
UID:4b8e691e-2bec-45c7-b493-c70798af5b8c
DTSTAMP:20260420T131811Z
DTSTART;VALUE=DATE:20260501
SUMMARY:Labor Day (Armenia)
END:VEVENT
END:VCALENDAR