BEGIN:VCALENDAR
VERSION:2.0
PRODID:-//time.you/holidays//NONSGML v1.0//EN
BEGIN:VEVENT
UID:7c85b325-51ab-414b-b981-39409841df37
DTSTAMP:20260424T230240Z
DTSTART;VALUE=DATE:20210107
SUMMARY:Memorial Day (Armenia)
END:VEVENT
END:VCALENDAR