BEGIN:VCALENDAR
VERSION:2.0
PRODID:-//time.you/holidays//NONSGML v1.0//EN
BEGIN:VEVENT
UID:6c133d71-9056-4230-a59a-42ad19e3082c
DTSTAMP:20260421T155443Z
DTSTART;VALUE=DATE:20260101
SUMMARY:New Year's Day (Armenia)
END:VEVENT
END:VCALENDAR