BEGIN:VCALENDAR
VERSION:2.0
PRODID:-//time.you/holidays//NONSGML v1.0//EN
BEGIN:VEVENT
UID:29614868-1439-4955-a3e8-ab1584d03e18
DTSTAMP:20260420T084701Z
DTSTART;VALUE=DATE:20261231
SUMMARY:New Year's Eve (Armenia)
END:VEVENT
END:VCALENDAR