BEGIN:VCALENDAR
VERSION:2.0
PRODID:-//time.you/holidays//NONSGML v1.0//EN
BEGIN:VEVENT
UID:8120c8c7-46b4-46d8-bb03-a5929fc1c4b8
DTSTAMP:20260421T183359Z
DTSTART;VALUE=DATE:20260528
SUMMARY:Republic Day (Armenia)
END:VEVENT
END:VCALENDAR