BEGIN:VCALENDAR
VERSION:2.0
PRODID:-//time.you/holidays//NONSGML v1.0//EN
BEGIN:VEVENT
UID:fc7b5d8a-7096-4d92-9860-3412328abf79
DTSTAMP:20260424T045939Z
DTSTART;VALUE=DATE:20260514
SUMMARY:Ascension Day (Aruba)
END:VEVENT
END:VCALENDAR